BEGIN:VCALENDAR
VERSION:2.0
PRODID:-//rooster/egg//NONSGML v1.0//EN
BEGIN:VTIMEZONE
TZID:Pacific/Auckland
TZURL:http://tzurl.org/zoneinfo-outlook/Pacific/Auckland
X-LIC-LOCATION:Pacific/Auckland
BEGIN:DAYLIGHT
TZOFFSETFROM:+1200
TZOFFSETTO:+1300
TZNAME:NZDT
DTSTART:19700927T020000
RRULE:FREQ=YEARLY;BYMONTH=9;BYDAY=-1SU
END:DAYLIGHT
BEGIN:STANDARD
TZOFFSETFROM:+1300
TZOFFSETTO:+1200
TZNAME:NZST
DTSTART:19700405T030000
RRULE:FREQ=YEARLY;BYMONTH=4;BYDAY=1SU
END:STANDARD
END:VTIMEZONE
BEGIN:VEVENT
ORGANIZER:Customer Services:mailto:info@woodtraining.co.nz
DTSTART:20250218T080000
DTEND:20250219T163000
LOCATION:Wood Training - 26, 26 Manadon Street, New Plymouth
SEQUENCE:0
UID:c4e9e585f639aafab6d82700188b8839woodtraining.co.nz
DTSTAMP:20260421T164239Z
DESCRIPTION:COURSE OVERVIEW\n\nThis course is ideal training for all people who work at heights or\nwith a potential to fall.\n\n \n\nCOURSE STRUCTURE\n\nThe course is a combination of theoretical and practical sessions.\nStudents are assessed continuously during the course. \n\n 	* Day 1: Harness safety and legislation \n 	* Day 2: Practical work at height\n\n \n\nLEARNING OUTCOMES\n\nAt the end of this course students will be able to:\n\n 	* Demonstrate knowledge of the hazards associated with wearing a\nsafety harness and associated equipment.\n 	* Demonstrate knowledge of safety harnesses and associated systems\nand equipment.\n 	* Check and fit a safety harness system.\n 	* Use a safety harness system where a fall hazard exists at height.\n 	* Demonstrate knowledge of the rescue plan to be implemented in the\nevent of a fall.\n 	* Identify anchor points and prepare to install a temporary\nproprietary height safety system.\n 	* Install horizontal and vertical temporary proprietary height\nsafety systems.\n 	* Use temporary proprietary height safety systems.\n 	* Disestablish temporary proprietary height safety systems.\n\n \n\nUNIT STANDARD PREREQUISITE\n\nUS23229 is the pre requisite for US15757. You can achieve both during\nthe course.\n\n \n\nASSESSMENT PROCESS \n\nTheory assessment followed by practical assessment which takes place\nwhen student is ready/has shown that they can perform all tasks\nrequired.  The practical consists of the installation of use of\ntemporary proprietary height safety systems at a minimum height of 2\nmetres.\n\n \n\nCOURSE DURATION\n\n2 Days.\n\n \n\nCERTIFICATION \n\nA Heights Safety - Advanced Certificate will be issued upon successful\ncompletion of this course.\n\n \n\nREVALIDATION/REFRESHER\n\nTo maintain current competency, it is recommended that refresher\ntraining occurs regularly. Depending on the industry you work in this\nmay vary. Current Wood Training recommendation is every two years.\n\n \n\nITEMS TO BRING\n\n 	* Photo ID.\n 	* Comfortable clothing suitable for classroom.\n 	* Covered-in footwear.\n\n \n\nHEALTH  \n\nMust be physically capable of climbing at height.\n\n \n\nELIGIBILITY\n\nStudents eligible to study with Wood Training are:\n\n 	* Permanent Residents,\n 	* Australian Citizens, or\n 	* Holders of work-visas who are required to undertake training by\ntheir employer.\n\nProof of eligibility is required. Please do not book people into this\ncourse if they do not meet these criteria. If uncertain, please call\nWood Training on 06 751 1101 to discuss.\n - info@woodtraining.co.nz - https://book.woodtraining.co.nz/FallArrest72
SUMMARY:Heights Safety - Advanced
END:VEVENT
END:VCALENDAR